BEGIN:VCALENDAR
VERSION:2.0
PRODID:-//Westminster Winter Park - ECPv6.15.20//NONSGML v1.0//EN
CALSCALE:GREGORIAN
METHOD:PUBLISH
X-WR-CALNAME:Westminster Winter Park
X-ORIGINAL-URL:https://westminstercommunitiesfl.org/westminster-winter-park/
X-WR-CALDESC:Events for Westminster Winter Park
REFRESH-INTERVAL;VALUE=DURATION:PT1H
X-Robots-Tag:noindex
X-PUBLISHED-TTL:PT1H
BEGIN:VTIMEZONE
TZID:America/New_York
BEGIN:DAYLIGHT
TZOFFSETFROM:-0500
TZOFFSETTO:-0400
TZNAME:EDT
DTSTART:20250309T070000
END:DAYLIGHT
BEGIN:STANDARD
TZOFFSETFROM:-0400
TZOFFSETTO:-0500
TZNAME:EST
DTSTART:20251102T060000
END:STANDARD
BEGIN:DAYLIGHT
TZOFFSETFROM:-0500
TZOFFSETTO:-0400
TZNAME:EDT
DTSTART:20260308T070000
END:DAYLIGHT
BEGIN:STANDARD
TZOFFSETFROM:-0400
TZOFFSETTO:-0500
TZNAME:EST
DTSTART:20261101T060000
END:STANDARD
BEGIN:DAYLIGHT
TZOFFSETFROM:-0500
TZOFFSETTO:-0400
TZNAME:EDT
DTSTART:20270314T070000
END:DAYLIGHT
BEGIN:STANDARD
TZOFFSETFROM:-0400
TZOFFSETTO:-0500
TZNAME:EST
DTSTART:20271107T060000
END:STANDARD
END:VTIMEZONE
BEGIN:VEVENT
DTSTART;TZID=America/New_York:20260513T170000
DTEND;TZID=America/New_York:20260513T170000
DTSTAMP:20260424T151225
CREATED:20260213T140217Z
LAST-MODIFIED:20260213T140526Z
UID:1799-1778691600-1778691600@westminstercommunitiesfl.org
SUMMARY:Wine Down Wednesday
DESCRIPTION:Enjoy friendly conversation and a delicious array of wines and appetizers as you get a taste of what life here is truly like. Join us at Westminster Baldwin Park to learn about the supportive healthcare services and financial predictability we offer\, and see firsthand the benefits living in a Life Plan Community offers you and your loved ones.
URL:https://westminstercommunitiesfl.org/westminster-winter-park/event/wine-down-wednesday/
LOCATION:Westminster Baldwin Park\, 2837 Lake Baldwin Lane\, Orlando\, 32814\, United States
END:VEVENT
BEGIN:VEVENT
DTSTART;TZID=America/New_York:20260520T170000
DTEND;TZID=America/New_York:20260520T170000
DTSTAMP:20260424T151225
CREATED:20260213T140441Z
LAST-MODIFIED:20260213T140441Z
UID:1800-1779296400-1779296400@westminstercommunitiesfl.org
SUMMARY:Wine Down Wednesday
DESCRIPTION:Enjoy friendly conversation and a delicious array of wines and appetizers as you get a taste of what life here is truly like. Join us at Westminster Baldwin Park to learn about the supportive healthcare services and financial predictability we offer and see firsthand the benefits living in a Life Plan Community offers you and your loved ones.
URL:https://westminstercommunitiesfl.org/westminster-winter-park/event/wine-down-wednesday-2/
LOCATION:Westminster Baldwin Park\, 2837 Lake Baldwin Lane\, Orlando\, 32814\, United States
END:VEVENT
BEGIN:VEVENT
DTSTART;TZID=America/New_York:20260610T113000
DTEND;TZID=America/New_York:20260610T113000
DTSTAMP:20260424T151225
CREATED:20260213T164746Z
LAST-MODIFIED:20260213T164746Z
UID:1802-1781091000-1781091000@westminstercommunitiesfl.org
SUMMARY:Rightsize and Revitalize
DESCRIPTION:Just the thought of sorting\, organizing\, relocating and discarding a lifetime of “stuff” can be overwhelming. Our experts will be here with easy tips and simple strategies to make the entire process of de‑cluttering and downsizing less daunting—and maybe even fun. Join us!
URL:https://westminstercommunitiesfl.org/westminster-winter-park/event/rightsize-and-revitalize/
LOCATION:Westminster Baldwin Park\, 2837 Lake Baldwin Lane\, Orlando\, 32814\, United States
END:VEVENT
BEGIN:VEVENT
DTSTART;TZID=America/New_York:20260625T113000
DTEND;TZID=America/New_York:20260625T113000
DTSTAMP:20260424T151225
CREATED:20260213T164806Z
LAST-MODIFIED:20260213T164806Z
UID:1803-1782387000-1782387000@westminstercommunitiesfl.org
SUMMARY:Rightsize and Revitalize
DESCRIPTION:Just the thought of sorting\, organizing\, relocating and discarding a lifetime of “stuff” can be overwhelming. Our experts will be here with easy tips and simple strategies to make the entire process of de‑cluttering and downsizing less daunting—and maybe even fun. Join us!
URL:https://westminstercommunitiesfl.org/westminster-winter-park/event/rightsize-and-revitalize-2/
LOCATION:Westminster Baldwin Park\, 2837 Lake Baldwin Lane\, Orlando\, 32814\, United States
END:VEVENT
END:VCALENDAR