BEGIN:VCALENDAR
VERSION:2.0
PRODID:-//Westminster Towers - ECPv6.15.20//NONSGML v1.0//EN
CALSCALE:GREGORIAN
METHOD:PUBLISH
X-WR-CALNAME:Westminster Towers
X-ORIGINAL-URL:https://westminstercommunitiesfl.org/westminster-towers/
X-WR-CALDESC:Events for Westminster Towers
REFRESH-INTERVAL;VALUE=DURATION:PT1H
X-Robots-Tag:noindex
X-PUBLISHED-TTL:PT1H
BEGIN:VTIMEZONE
TZID:UTC
BEGIN:STANDARD
TZOFFSETFROM:+0000
TZOFFSETTO:+0000
TZNAME:UTC
DTSTART:20250101T000000
END:STANDARD
END:VTIMEZONE
BEGIN:VTIMEZONE
TZID:America/New_York
BEGIN:DAYLIGHT
TZOFFSETFROM:-0500
TZOFFSETTO:-0400
TZNAME:EDT
DTSTART:20250309T070000
END:DAYLIGHT
BEGIN:STANDARD
TZOFFSETFROM:-0400
TZOFFSETTO:-0500
TZNAME:EST
DTSTART:20251102T060000
END:STANDARD
BEGIN:DAYLIGHT
TZOFFSETFROM:-0500
TZOFFSETTO:-0400
TZNAME:EDT
DTSTART:20260308T070000
END:DAYLIGHT
BEGIN:STANDARD
TZOFFSETFROM:-0400
TZOFFSETTO:-0500
TZNAME:EST
DTSTART:20261101T060000
END:STANDARD
BEGIN:DAYLIGHT
TZOFFSETFROM:-0500
TZOFFSETTO:-0400
TZNAME:EDT
DTSTART:20270314T070000
END:DAYLIGHT
BEGIN:STANDARD
TZOFFSETFROM:-0400
TZOFFSETTO:-0500
TZNAME:EST
DTSTART:20271107T060000
END:STANDARD
END:VTIMEZONE
BEGIN:VEVENT
DTSTART;TZID=UTC:20260513T103000
DTEND;TZID=UTC:20260513T103000
DTSTAMP:20260421T174649
CREATED:20260213T041959Z
LAST-MODIFIED:20260213T041959Z
UID:1717-1778668200-1778668200@westminstercommunitiesfl.org
SUMMARY:Coffee and Conversation
DESCRIPTION:Savor a delicious cup of coffee and uncover the many benefits of choosing a Life Plan Community. Explore our vibrant community\, discover the wide range of supportive healthcare services and financial predictability\, and see firsthand why residents are happy to be here.
URL:https://westminstercommunitiesfl.org/westminster-towers/event/coffee-and-conversation/
LOCATION:Westminster Towers\, 70 West Lucerne Circle\, Orlando\, FL\, 32801\, United States
END:VEVENT
BEGIN:VEVENT
DTSTART;TZID=UTC:20260528T103000
DTEND;TZID=UTC:20260528T103000
DTSTAMP:20260421T174649
CREATED:20260213T042030Z
LAST-MODIFIED:20260213T042030Z
UID:1718-1779964200-1779964200@westminstercommunitiesfl.org
SUMMARY:Coffee and Conversation
DESCRIPTION:Savor a delicious cup of coffee and uncover the many benefits of choosing a Life Plan Community. Explore our vibrant community\, discover the wide range of supportive healthcare services and financial predictability\, and see firsthand why residents are happy to be here.
URL:https://westminstercommunitiesfl.org/westminster-towers/event/coffee-and-conversation-2/
LOCATION:Westminster Towers\, 70 West Lucerne Circle\, Orlando\, FL\, 32801\, United States
END:VEVENT
BEGIN:VEVENT
DTSTART;TZID=America/New_York:20260610T133000
DTEND;TZID=America/New_York:20260610T133000
DTSTAMP:20260421T174649
CREATED:20260213T165549Z
LAST-MODIFIED:20260213T165549Z
UID:1719-1781098200-1781098200@westminstercommunitiesfl.org
SUMMARY:Wine Down Wednesday
DESCRIPTION:Enjoy friendly conversation and a delicious array of wines and appetizers as you get a taste of what life here is truly like. Learn about the supportive healthcare services and financial predictability we offer and see firsthand the benefits living in a Life Plan Community offers you and your loved ones.
URL:https://westminstercommunitiesfl.org/westminster-towers/event/wine-down-wednesday/
LOCATION:Westminster Towers\, 70 West Lucerne Circle\, Orlando\, FL\, 32801\, United States
END:VEVENT
BEGIN:VEVENT
DTSTART;TZID=America/New_York:20260624T133000
DTEND;TZID=America/New_York:20260624T133000
DTSTAMP:20260421T174649
CREATED:20260213T165614Z
LAST-MODIFIED:20260213T165614Z
UID:1720-1782307800-1782307800@westminstercommunitiesfl.org
SUMMARY:Wine Down Wednesday
DESCRIPTION:Enjoy friendly conversation and a delicious array of wines and appetizers as you get a taste of what life here is truly like. Learn about the supportive healthcare services and financial predictability we offer and see firsthand the benefits living in a Life Plan Community offers you and your loved ones.
URL:https://westminstercommunitiesfl.org/westminster-towers/event/wine-down-wednesday-2/
LOCATION:Westminster Towers\, 70 West Lucerne Circle\, Orlando\, FL\, 32801\, United States
END:VEVENT
END:VCALENDAR